BEGIN:VCALENDAR
VERSION:2.0
PRODID:-//ChamberMaster//Event Calendar 2.0//EN
METHOD:PUBLISH
X-PUBLISHED-TTL:P1H
REFRESH-INTERVAL:P1H
CALSCALE:GREGORIAN
BEGIN:VTIMEZONE
TZID:America/New_York
BEGIN:DAYLIGHT
RRULE:FREQ=YEARLY;BYMONTH=3;BYDAY=2SU
DTSTART:20070101T000000
TZOFFSETFROM:-0500
TZOFFSETTO:-0400
TZNAME:Eastern Daylight Time
END:DAYLIGHT
BEGIN:STANDARD
RRULE:FREQ=YEARLY;BYMONTH=11;BYDAY=1SU
DTSTART:20070101T000000
TZOFFSETFROM:-0400
TZOFFSETTO:-0500
TZNAME:Eastern Standard Time
END:STANDARD
END:VTIMEZONE
BEGIN:VEVENT
DTSTART;TZID=America/New_York:20260609T090000
DTEND;TZID=America/New_York:20260609T110000
X-MICROSOFT-CDO-ALLDAYEVENT:FALSE
SUMMARY:MBA Young Constructors Leadership Development Seminar 2026
DESCRIPTION:The MBA Young Constructors Leadership Development Seminar is a unique opportunity for young professionals at MBA member firms to learn from industry leaders. Featured panelists will share highlights from their successful careers and provide advice for today's early and mid-career professionals. We would like to provide our panelists with burning questions from attendees in advance   simply email your questions to ellianna@mbawpa.org. You will also be given the opportunity to ask questions during the roundtable portion of the event.Moderator: TBDPanelists: TBD
X-ALT-DESC;FMTTYPE=text/html:<!DOCTYPE html><html><head><title></title></head><body aria-disabled="false"><p>The MBA Young Constructors Leadership Development Seminar is a unique opportunity for young professionals at MBA member firms to learn from industry leaders. Featured panelists will share highlights from their successful careers and provide advice for today&rsquo\;s early and mid-career professionals. We would like to provide our panelists with burning questions from attendees in advance &ndash\; simply email your questions to ellianna@mbawpa.org. You will also be given the opportunity to ask questions during the roundtable portion of the event.</p><h4><strong fr-original-style="" style="font-weight: 700\;">Moderator: TBD</strong></h4><h4><strong fr-original-style="" style="font-weight: 700\;">Panelists: TBD</strong></h4></body></html>
LOCATION:631 Iron City Dr Pittsburgh PA 15205
UID:e.3181.1447823
SEQUENCE:3
DTSTAMP:20260425T183939Z
URL:https://members.mbawpa.org/events/Details/mba-young-constructors-leadership-development-seminar-2026-1714763?sourceTypeId=Hub
END:VEVENT
END:VCALENDAR
