BEGIN:VCALENDAR
VERSION:2.0
PRODID:-//ChamberMaster//Event Calendar 2.0//EN
METHOD:PUBLISH
X-PUBLISHED-TTL:P1H
REFRESH-INTERVAL:P1H
CALSCALE:GREGORIAN
BEGIN:VTIMEZONE
TZID:America/New_York
BEGIN:DAYLIGHT
RRULE:FREQ=YEARLY;BYMONTH=3;BYDAY=2SU
DTSTART:20070101T000000
TZOFFSETFROM:-0500
TZOFFSETTO:-0400
TZNAME:Eastern Daylight Time
END:DAYLIGHT
BEGIN:STANDARD
RRULE:FREQ=YEARLY;BYMONTH=11;BYDAY=1SU
DTSTART:20070101T000000
TZOFFSETFROM:-0400
TZOFFSETTO:-0500
TZNAME:Eastern Standard Time
END:STANDARD
END:VTIMEZONE
BEGIN:VEVENT
DTSTART;TZID=America/New_York:20260626T110000
DTEND;TZID=America/New_York:20260626T140000
X-MICROSOFT-CDO-ALLDAYEVENT:FALSE
SUMMARY:MBA Member's Intern Luncheon 2026
DESCRIPTION:If you have interns planning to spend their summer with you\, sign them up for the MBA Member's Intern Luncheon! This exclusive lunch was designed specifically for interns in the construction industry to network with other interns\, learn more about the trades\, tour the training center\, and enjoy playing cornhole! \nFree for all MBA Member's Interns. RSVP by June 19th Lunch provided One company staff member can attend with their intern(s)
X-ALT-DESC;FMTTYPE=text/html:<!DOCTYPE html><html><head><title></title></head><body aria-disabled="false"><p style="margin: 0px\; padding: 0px\; color: rgb(0\, 0\, 0)\; font-family: Arial\, Verdana\, Helvetica\, sans-serif\; font-size: 14px\; font-style: normal\; font-variant-ligatures: normal\; font-variant-caps: normal\; font-weight: 400\; letter-spacing: normal\; orphans: 2\; text-indent: 0px\; text-transform: none\; widows: 2\; word-spacing: 0px\; -webkit-text-stroke-width: 0px\; white-space: pre-wrap\; background-color: rgb(255\, 255\, 255)\; text-decoration-thickness: initial\; text-decoration-style: initial\; text-decoration-color: initial\; text-align: justify\;"><span style="color: rgb(0\, 0\, 0)\;">If you have interns planning to spend their summer with you\, sign them up for the MBA Member&#39\;s Intern Luncheon! This exclusive lunch was designed specifically for interns in the construction industry to network with other interns\, learn more about the trades\, tour the training center\, and enjoy playing cornhole!&nbsp\;</span></p><p style="margin: 0px\; padding: 0px\; color: rgb(0\, 0\, 0)\; font-family: Arial\, Verdana\, Helvetica\, sans-serif\; font-size: 14px\; font-style: normal\; font-variant-ligatures: normal\; font-variant-caps: normal\; font-weight: 400\; letter-spacing: normal\; orphans: 2\; text-indent: 0px\; text-transform: none\; widows: 2\; word-spacing: 0px\; -webkit-text-stroke-width: 0px\; white-space: pre-wrap\; background-color: rgb(255\, 255\, 255)\; text-decoration-thickness: initial\; text-decoration-style: initial\; text-decoration-color: initial\; text-align: justify\;"><br></p><ul fr-original-style="margin: 0px 0px 0px 40px\; padding: 0px\; color: rgb(0\, 0\, 0)\; font-family: Arial\, Verdana\, Helvetica\, sans-serif\; font-size: 14px\; font-style: normal\; font-variant-ligatures: normal\; font-variant-caps: normal\; font-weight: 400\; letter-spacing: normal\; orphans: 2\; text-align: left\; text-indent: 0px\; text-transform: none\; widows: 2\; word-spacing: 0px\; -webkit-text-stroke-width: 0px\; white-space: pre-wrap\; background-color: rgb(255\, 255\, 255)\; text-decoration-thickness: initial\; text-decoration-style: initial\; text-decoration-color: initial\;" style="margin: 0px 0px 0px 40px\; padding: 0px\; color: rgb(0\, 0\, 0)\; font-family: Arial\, Verdana\, Helvetica\, sans-serif\; font-size: 14px\; font-style: normal\; font-variant-ligatures: normal\; font-variant-caps: normal\; font-weight: 400\; letter-spacing: normal\; orphans: 2\; text-align: left\; text-indent: 0px\; text-transform: none\; widows: 2\; word-spacing: 0px\; -webkit-text-stroke-width: 0px\; white-space: pre-wrap\; background-color: rgb(255\, 255\, 255)\; text-decoration-thickness: initial\; text-decoration-style: initial\; text-decoration-color: initial\; list-style-position: inside\;"><li style="padding: 0px\; margin: 0px\; color: rgb(0\, 0\, 0)\; text-align: justify\;"><span style="color: rgb(0\, 0\, 0)\;">Free for all MBA Member&#39\;s Interns.&nbsp\;</span></li><li style="padding: 0px\; margin: 0px\; color: rgb(0\, 0\, 0)\; text-align: justify\;"><span style="color: rgb(0\, 0\, 0)\;">RSVP by June 19th&nbsp\;</span></li><li style="padding: 0px\; margin: 0px\; color: rgb(0\, 0\, 0)\; text-align: justify\;"><span style="color: rgb(0\, 0\, 0)\;">Lunch provided&nbsp\;</span></li><li style="padding: 0px\; margin: 0px\; color: rgb(0\, 0\, 0)\; text-align: justify\;"><span style="color: rgb(0\, 0\, 0)\;">One company staff member can attend with their intern(s)</span></li></ul></body></html>
LOCATION:652 Ridge Road Pittsburgh 15205
UID:e.3181.1447841
SEQUENCE:3
DTSTAMP:20260425T183939Z
URL:https://members.mbawpa.org/events/Details/mba-member-s-intern-luncheon-2026-1714791?sourceTypeId=Hub
END:VEVENT
END:VCALENDAR
